BEGIN:VCALENDAR
VERSION:2.0
PRODID:-//Linwood Community Library - ECPv6.15.20//NONSGML v1.0//EN
CALSCALE:GREGORIAN
METHOD:PUBLISH
X-ORIGINAL-URL:https://linwoodcommunitylibrary.org
X-WR-CALDESC:Events for Linwood Community Library
REFRESH-INTERVAL;VALUE=DURATION:PT1H
X-Robots-Tag:noindex
X-PUBLISHED-TTL:PT1H
BEGIN:VTIMEZONE
TZID:America/Chicago
BEGIN:DAYLIGHT
TZOFFSETFROM:-0600
TZOFFSETTO:-0500
TZNAME:CDT
DTSTART:20220313T080000
END:DAYLIGHT
BEGIN:STANDARD
TZOFFSETFROM:-0500
TZOFFSETTO:-0600
TZNAME:CST
DTSTART:20221106T070000
END:STANDARD
BEGIN:DAYLIGHT
TZOFFSETFROM:-0600
TZOFFSETTO:-0500
TZNAME:CDT
DTSTART:20230312T080000
END:DAYLIGHT
BEGIN:STANDARD
TZOFFSETFROM:-0500
TZOFFSETTO:-0600
TZNAME:CST
DTSTART:20231105T070000
END:STANDARD
BEGIN:DAYLIGHT
TZOFFSETFROM:-0600
TZOFFSETTO:-0500
TZNAME:CDT
DTSTART:20240310T080000
END:DAYLIGHT
BEGIN:STANDARD
TZOFFSETFROM:-0500
TZOFFSETTO:-0600
TZNAME:CST
DTSTART:20241103T070000
END:STANDARD
END:VTIMEZONE
BEGIN:VEVENT
DTSTART;TZID=America/Chicago:20230711T100000
DTEND;TZID=America/Chicago:20230711T110000
DTSTAMP:20260425T081616
CREATED:20230613T183303Z
LAST-MODIFIED:20230613T183303Z
UID:2804-1689069600-1689073200@linwoodcommunitylibrary.org
SUMMARY:Play Time
DESCRIPTION:
URL:https://linwoodcommunitylibrary.org/event/play-time-24/
CATEGORIES:Youth Programming
END:VEVENT
BEGIN:VEVENT
DTSTART;TZID=America/Chicago:20230711T130000
DTEND;TZID=America/Chicago:20230711T140000
DTSTAMP:20260425T081617
CREATED:20230613T183503Z
LAST-MODIFIED:20230613T183503Z
UID:2808-1689080400-1689084000@linwoodcommunitylibrary.org
SUMMARY:Pot Luck Luncheon
DESCRIPTION:
URL:https://linwoodcommunitylibrary.org/event/pot-luck-luncheon-2/
CATEGORIES:Adult Programming
END:VEVENT
BEGIN:VEVENT
DTSTART;TZID=America/Chicago:20230711T190000
DTEND;TZID=America/Chicago:20230711T200000
DTSTAMP:20260425T081617
CREATED:20230613T190222Z
LAST-MODIFIED:20230613T191112Z
UID:2821-1689102000-1689105600@linwoodcommunitylibrary.org
SUMMARY:Friends of the Library Meeing.
DESCRIPTION:The Friends of the Linwood Community Library are a group of Linwood area patrons who strive to show their appreciation and support of the library’s collections\, programs\, and services. They promote awareness of the library\, provide volunteer assistance\, conduct an annual used book sale\, raise funds for special purchases\, and sponsor Library programs. \nMeetings are held on the second Tuesday of February\, May\, July\, September\, and November at 7:00 pm in the Library Community Meeting Room unless otherwise specified. \nYou can help the Friends out by becoming a member. It’s only $10 per individual or $15 per family for a whole year! You can also join as a business partner for $25 or make a lifetime contribution of $200. \nYou can become a Friend of the Library by picking up a form at the Linwood Community Library circulation desk. If you can’t make it to the library yourself\, you can call the library at (913) 301-3686\, and we will have a form sent to you\, which you will be able to fill out and return.
URL:https://linwoodcommunitylibrary.org/event/friends-of-the-library-meeing/
END:VEVENT
END:VCALENDAR