BEGIN:VCALENDAR
VERSION:2.0
PRODID:-//Linwood Community Library - ECPv6.15.20//NONSGML v1.0//EN
CALSCALE:GREGORIAN
METHOD:PUBLISH
X-ORIGINAL-URL:https://linwoodcommunitylibrary.org
X-WR-CALDESC:Events for Linwood Community Library
REFRESH-INTERVAL;VALUE=DURATION:PT1H
X-Robots-Tag:noindex
X-PUBLISHED-TTL:PT1H
BEGIN:VTIMEZONE
TZID:America/Chicago
BEGIN:DAYLIGHT
TZOFFSETFROM:-0600
TZOFFSETTO:-0500
TZNAME:CDT
DTSTART:20220313T080000
END:DAYLIGHT
BEGIN:STANDARD
TZOFFSETFROM:-0500
TZOFFSETTO:-0600
TZNAME:CST
DTSTART:20221106T070000
END:STANDARD
BEGIN:DAYLIGHT
TZOFFSETFROM:-0600
TZOFFSETTO:-0500
TZNAME:CDT
DTSTART:20230312T080000
END:DAYLIGHT
BEGIN:STANDARD
TZOFFSETFROM:-0500
TZOFFSETTO:-0600
TZNAME:CST
DTSTART:20231105T070000
END:STANDARD
BEGIN:DAYLIGHT
TZOFFSETFROM:-0600
TZOFFSETTO:-0500
TZNAME:CDT
DTSTART:20240310T080000
END:DAYLIGHT
BEGIN:STANDARD
TZOFFSETFROM:-0500
TZOFFSETTO:-0600
TZNAME:CST
DTSTART:20241103T070000
END:STANDARD
END:VTIMEZONE
BEGIN:VEVENT
DTSTART;TZID=America/Chicago:20230602T100000
DTEND;TZID=America/Chicago:20230602T113000
DTSTAMP:20260422T210051
CREATED:20230524T223428Z
LAST-MODIFIED:20230524T223428Z
UID:2712-1685700000-1685705400@linwoodcommunitylibrary.org
SUMMARY:Summer Reading Kickoff
DESCRIPTION:Kick Summer off at the library
URL:https://linwoodcommunitylibrary.org/event/summer-reading-kickoff/
CATEGORIES:Youth Programming
END:VEVENT
BEGIN:VEVENT
DTSTART;TZID=America/Chicago:20230602T183000
DTEND;TZID=America/Chicago:20230602T203000
DTSTAMP:20260422T210051
CREATED:20230524T223723Z
LAST-MODIFIED:20230524T223723Z
UID:2714-1685730600-1685737800@linwoodcommunitylibrary.org
SUMMARY:First Annual "First Friday Concert"
DESCRIPTION:Grab some food\, play games\, and watch Black Top Thunder perform 80’s rock music
URL:https://linwoodcommunitylibrary.org/event/first-annual-first-friday-concert/
CATEGORIES:Family
END:VEVENT
END:VCALENDAR