BEGIN:VCALENDAR
VERSION:2.0
PRODID:-//Linwood Community Library - ECPv6.15.20//NONSGML v1.0//EN
CALSCALE:GREGORIAN
METHOD:PUBLISH
X-WR-CALNAME:Linwood Community Library
X-ORIGINAL-URL:https://linwoodcommunitylibrary.org
X-WR-CALDESC:Events for Linwood Community Library
REFRESH-INTERVAL;VALUE=DURATION:PT1H
X-Robots-Tag:noindex
X-PUBLISHED-TTL:PT1H
BEGIN:VTIMEZONE
TZID:America/Chicago
BEGIN:DAYLIGHT
TZOFFSETFROM:-0600
TZOFFSETTO:-0500
TZNAME:CDT
DTSTART:20210314T080000
END:DAYLIGHT
BEGIN:STANDARD
TZOFFSETFROM:-0500
TZOFFSETTO:-0600
TZNAME:CST
DTSTART:20211107T070000
END:STANDARD
BEGIN:DAYLIGHT
TZOFFSETFROM:-0600
TZOFFSETTO:-0500
TZNAME:CDT
DTSTART:20220313T080000
END:DAYLIGHT
BEGIN:STANDARD
TZOFFSETFROM:-0500
TZOFFSETTO:-0600
TZNAME:CST
DTSTART:20221106T070000
END:STANDARD
BEGIN:DAYLIGHT
TZOFFSETFROM:-0600
TZOFFSETTO:-0500
TZNAME:CDT
DTSTART:20230312T080000
END:DAYLIGHT
BEGIN:STANDARD
TZOFFSETFROM:-0500
TZOFFSETTO:-0600
TZNAME:CST
DTSTART:20231105T070000
END:STANDARD
END:VTIMEZONE
BEGIN:VEVENT
DTSTART;TZID=America/Chicago:20221217T110000
DTEND;TZID=America/Chicago:20221217T130000
DTSTAMP:20260425T095448
CREATED:20221122T174131Z
LAST-MODIFIED:20221122T174138Z
UID:2199-1671274800-1671282000@linwoodcommunitylibrary.org
SUMMARY:Santa and Mrs. Claus will be making a special visit to the Linwood Library as Christmas approaches
DESCRIPTION:Be sure you come by the Library to visit Santa and Mrs. Claus during their visit.
URL:https://linwoodcommunitylibrary.org/event/santa-and-mrs-claus-will-be-making-a-special-visit-to-the-linwood-library-as-christmas-approaches/
CATEGORIES:Family
END:VEVENT
END:VCALENDAR