BEGIN:VCALENDAR
VERSION:2.0
PRODID:-//Linwood Community Library - ECPv6.15.20//NONSGML v1.0//EN
CALSCALE:GREGORIAN
METHOD:PUBLISH
X-ORIGINAL-URL:https://linwoodcommunitylibrary.org
X-WR-CALDESC:Events for Linwood Community Library
REFRESH-INTERVAL;VALUE=DURATION:PT1H
X-Robots-Tag:noindex
X-PUBLISHED-TTL:PT1H
BEGIN:VTIMEZONE
TZID:America/Chicago
BEGIN:DAYLIGHT
TZOFFSETFROM:-0600
TZOFFSETTO:-0500
TZNAME:CDT
DTSTART:20210314T080000
END:DAYLIGHT
BEGIN:STANDARD
TZOFFSETFROM:-0500
TZOFFSETTO:-0600
TZNAME:CST
DTSTART:20211107T070000
END:STANDARD
BEGIN:DAYLIGHT
TZOFFSETFROM:-0600
TZOFFSETTO:-0500
TZNAME:CDT
DTSTART:20220313T080000
END:DAYLIGHT
BEGIN:STANDARD
TZOFFSETFROM:-0500
TZOFFSETTO:-0600
TZNAME:CST
DTSTART:20221106T070000
END:STANDARD
BEGIN:DAYLIGHT
TZOFFSETFROM:-0600
TZOFFSETTO:-0500
TZNAME:CDT
DTSTART:20230312T080000
END:DAYLIGHT
BEGIN:STANDARD
TZOFFSETFROM:-0500
TZOFFSETTO:-0600
TZNAME:CST
DTSTART:20231105T070000
END:STANDARD
END:VTIMEZONE
BEGIN:VEVENT
DTSTART;VALUE=DATE:20221214
DTEND;VALUE=DATE:20221215
DTSTAMP:20260424T131104
CREATED:20221122T165353Z
LAST-MODIFIED:20221122T173545Z
UID:2188-1670976000-1671062399@linwoodcommunitylibrary.org
SUMMARY:Peanut Brittle Bags to go.
DESCRIPTION:Check out a book\, say hi and grab a bag to go!
URL:https://linwoodcommunitylibrary.org/event/peanut-brittle-bags-to-go/
CATEGORIES:Family
END:VEVENT
END:VCALENDAR